BEGIN:VCALENDAR
VERSION:2.0
PRODID:-//Sabine Blechstein - ECPv5.9.2//NONSGML v1.0//EN
CALSCALE:GREGORIAN
METHOD:PUBLISH
X-WR-CALNAME:Sabine Blechstein
X-ORIGINAL-URL:https://www.sabine-blechstein.com
X-WR-CALDESC:Veranstaltungen für Sabine Blechstein
BEGIN:VTIMEZONE
TZID:Europe/Berlin
BEGIN:DAYLIGHT
TZOFFSETFROM:+0100
TZOFFSETTO:+0200
TZNAME:CEST
DTSTART:20250330T010000
END:DAYLIGHT
BEGIN:STANDARD
TZOFFSETFROM:+0200
TZOFFSETTO:+0100
TZNAME:CET
DTSTART:20251026T010000
END:STANDARD
END:VTIMEZONE
BEGIN:VEVENT
DTSTART;TZID=Europe/Berlin:20250927T100000
DTEND;TZID=Europe/Berlin:20250927T190000
DTSTAMP:20260421T105904
CREATED:20250804T182954Z
LAST-MODIFIED:20250804T182954Z
UID:6805-1758967200-1758999600@www.sabine-blechstein.com
SUMMARY:Aufstellungstag Winterthur
DESCRIPTION:Ein Aufstellungstag mit 4 persönlichen systemischen Familienaufstellungen und anderen Aufstellungsthemen und Aufstellungsformaten. Alle Aufstellungsanliegen sind willkommen! Der Aufstellungstag richtet sich an Menschen\, die selbst ein Thema aufstellen oder als Statist/in mit dabei sein möchten. Die Aufstellungsarbeit wird mit ihren Hintergründen\, Phänomenen und Heilchancen in der Tiefe erfahren. Keine Vorkenntnisse nötig.
URL:https://www.sabine-blechstein.com/event/aufstellungstag-winterthur-13/
LOCATION:Stadtlichtung\, Spitalgasse 11\, Winterthur\, ZH\, 8400\, Schweiz
ORGANIZER;CN="Sabine%20Blechstein":MAILTO:sabine.blechstein@gmail.com
END:VEVENT
END:VCALENDAR