BEGIN:VCALENDAR
VERSION:2.0
PRODID:-//Sabine Blechstein - ECPv5.9.2//NONSGML v1.0//EN
CALSCALE:GREGORIAN
METHOD:PUBLISH
X-WR-CALNAME:Sabine Blechstein
X-ORIGINAL-URL:https://www.sabine-blechstein.com
X-WR-CALDESC:Veranstaltungen für Sabine Blechstein
BEGIN:VTIMEZONE
TZID:Europe/Berlin
BEGIN:DAYLIGHT
TZOFFSETFROM:+0100
TZOFFSETTO:+0200
TZNAME:CEST
DTSTART:20250330T010000
END:DAYLIGHT
BEGIN:STANDARD
TZOFFSETFROM:+0200
TZOFFSETTO:+0100
TZNAME:CET
DTSTART:20251026T010000
END:STANDARD
END:VTIMEZONE
BEGIN:VEVENT
DTSTART;TZID=Europe/Berlin:20250901T000000
DTEND;TZID=Europe/Berlin:20250928T000000
DTSTAMP:20260421T135103
CREATED:20250606T142254Z
LAST-MODIFIED:20250927T194652Z
UID:6711-1756684800-1759017600@www.sabine-blechstein.com
SUMMARY:Einzelsitzungen Winterthur / Schweiz
DESCRIPTION:Bis 28.09. Termine in meiner Winterthurer Praxis\, dann wieder ab 13.11.\nEinzel-Aufstellungen (Männer & Frauen)\, sowie Frauenheilarbeit\, Frauenthemen\, Schossraum-\, Gebärmutter-Einzelsitzungen in Winterthur.\n170 CHF/Std.\, Dauer: 1\,5-2 Std.\nZoom-Sitzungen ortsunabhängig durchgängig.
URL:https://www.sabine-blechstein.com/event/einzelsitzungen-winterthur-schweiz-9/
LOCATION:Stadtlichtung\, Spitalgasse 11\, Winterthur\, ZH\, 8400\, Schweiz
ORGANIZER;CN="Sabine%20Blechstein":MAILTO:sabine.blechstein@gmail.com
END:VEVENT
END:VCALENDAR