BEGIN:VCALENDAR
VERSION:2.0
PRODID:-//Sabine Blechstein - ECPv5.9.2//NONSGML v1.0//EN
CALSCALE:GREGORIAN
METHOD:PUBLISH
X-WR-CALNAME:Sabine Blechstein
X-ORIGINAL-URL:https://www.sabine-blechstein.com
X-WR-CALDESC:Veranstaltungen für Sabine Blechstein
BEGIN:VTIMEZONE
TZID:Europe/Berlin
BEGIN:DAYLIGHT
TZOFFSETFROM:+0100
TZOFFSETTO:+0200
TZNAME:CEST
DTSTART:20250330T010000
END:DAYLIGHT
BEGIN:STANDARD
TZOFFSETFROM:+0200
TZOFFSETTO:+0100
TZNAME:CET
DTSTART:20251026T010000
END:STANDARD
END:VTIMEZONE
BEGIN:VEVENT
DTSTART;TZID=Europe/Berlin:20250601T183000
DTEND;TZID=Europe/Berlin:20250601T210000
DTSTAMP:20260424T161602
CREATED:20250224T183503Z
LAST-MODIFIED:20250224T183503Z
UID:6508-1748802600-1748811600@www.sabine-blechstein.com
SUMMARY:Frauen-Heilkreis Winterthur
DESCRIPTION:Frauenraum – Schossraumheilung – Gebärmutterwissen – erwachte Weiblichkeit\nIm Frauenkreis kannst Du tief in Deinen Schoss sinken\, Dich mit Deiner urweiblichen Quelle fühlig verbinden und von dort aus die Themen bewegen\, die gerade präsent sind in Dir. Der fühlige Kontakt zur eigenen Gebärmutter und berührende\, nährende Erfahrungen unter Frauen stehen im Vordergrund. Bei dieser weiblichen Körperreise erwarten Dich entspannende Übungen zum Gewahrwerden Deines Schossraumes und Deiner Gebärmutterkraft (auch bei Symptomen oder Gebärmutterentfernung!)\, eine Schossraum-Meditation\, weibliche Ressourcen-\, Nähr- und Heilräume für einen klaren Selbstkontakt sowie ein achtsamer\, wohltuender\, authentischer Austausch unter Frauen. \nTermine einzeln buchbar\nZeit: 18:30-21:00 Uhr\nBeitrag: 45 CHF / Abend \n 
URL:https://www.sabine-blechstein.com/event/frauen-heilkreis-winterthur-9/
LOCATION:Stadtlichtung\, Spitalgasse 11\, Winterthur\, ZH\, 8400\, Schweiz
ORGANIZER;CN="Sabine%20Blechstein":MAILTO:sabine.blechstein@gmail.com
END:VEVENT
END:VCALENDAR